BEGIN:VCALENDAR
VERSION:2.0
PRODID:-//Dufferin Tourism - ECPv6.15.14//NONSGML v1.0//EN
CALSCALE:GREGORIAN
METHOD:PUBLISH
X-WR-CALNAME:Dufferin Tourism
X-ORIGINAL-URL:https://exploredufferincounty.ca
X-WR-CALDESC:Events for Dufferin Tourism
REFRESH-INTERVAL;VALUE=DURATION:PT1H
X-Robots-Tag:noindex
X-PUBLISHED-TTL:PT1H
BEGIN:VTIMEZONE
TZID:UTC
BEGIN:STANDARD
TZOFFSETFROM:+0000
TZOFFSETTO:+0000
TZNAME:UTC
DTSTART:20230101T000000
END:STANDARD
END:VTIMEZONE
BEGIN:VEVENT
DTSTART;TZID=UTC:20251101T160000
DTEND;TZID=UTC:20251101T180000
DTSTAMP:20260422T093303
CREATED:20251031T142405Z
LAST-MODIFIED:20251031T142828Z
UID:10000280-1762012800-1762020000@exploredufferincounty.ca
SUMMARY:Echos of the Wild Forest Therapy
DESCRIPTION:
URL:https://exploredufferincounty.ca/event/echos-of-the-wild-forest-therapy
LOCATION:Mono Tract Forest\, Mono\, Ontario\, L9W 5S2\, Canada
CATEGORIES:Agri-tourism,Hiking,Outdoor
ATTACH;FMTTYPE=image/png:https://exploredufferincounty.ca/wp-content/uploads/2025/10/Screenshot-2025-10-31-102553.png
END:VEVENT
BEGIN:VEVENT
DTSTART;TZID=UTC:20250823T100000
DTEND;TZID=UTC:20250823T113000
DTSTAMP:20260422T093303
CREATED:20250710T183818Z
LAST-MODIFIED:20250710T184458Z
UID:10000253-1755943200-1755948600@exploredufferincounty.ca
SUMMARY:Forest Bath and Nature Journaling
DESCRIPTION:
URL:https://exploredufferincounty.ca/event/forest-bath-and-nature-journaling-4
LOCATION:Mono Tract Forest\, Mono\, Ontario\, L9W 5S2\, Canada
CATEGORIES:Hiking,Outdoor
ATTACH;FMTTYPE=image/png:https://exploredufferincounty.ca/wp-content/uploads/2025/07/nature-journaling.png
END:VEVENT
BEGIN:VEVENT
DTSTART;TZID=UTC:20250823T080000
DTEND;TZID=UTC:20250823T093000
DTSTAMP:20260422T093303
CREATED:20250710T183405Z
LAST-MODIFIED:20250710T183759Z
UID:10000252-1755936000-1755941400@exploredufferincounty.ca
SUMMARY:Yoga Hike and Forest Bath
DESCRIPTION:
URL:https://exploredufferincounty.ca/event/yoga-hike-and-forest-bath-3
LOCATION:Mono Tract Forest\, Mono\, Ontario\, L9W 5S2\, Canada
CATEGORIES:Hiking,Outdoor
ATTACH;FMTTYPE=image/png:https://exploredufferincounty.ca/wp-content/uploads/2025/04/118802839064_YOGA-Hike.png
END:VEVENT
BEGIN:VEVENT
DTSTART;TZID=UTC:20250720T100000
DTEND;TZID=UTC:20250720T180000
DTSTAMP:20260422T093303
CREATED:20250609T181721Z
LAST-MODIFIED:20250609T182542Z
UID:10000238-1753005600-1753034400@exploredufferincounty.ca
SUMMARY:Pass The Handle Day
DESCRIPTION:
URL:https://exploredufferincounty.ca/event/pass-the-handle-day
LOCATION:Island Lake Conservation Area\, 673067 Hurontario St\, Orangeville\, Ontario\, L9W 2Y9\, Canada
CATEGORIES:Outdoor,Sports
ATTACH;FMTTYPE=image/jpeg:https://exploredufferincounty.ca/wp-content/uploads/2025/06/20240706_7005.jpg
END:VEVENT
BEGIN:VEVENT
DTSTART;TZID=UTC:20250719T113000
DTEND;TZID=UTC:20250719T130000
DTSTAMP:20260422T093303
CREATED:20250609T160941Z
LAST-MODIFIED:20250609T161851Z
UID:10000237-1752924600-1752930000@exploredufferincounty.ca
SUMMARY:Forest Bath and Nature Journaling for Families
DESCRIPTION:
URL:https://exploredufferincounty.ca/event/forest-bath-and-nature-journaling-for-families
LOCATION:Island Lake Conservation Area\, 673067 Hurontario St\, Orangeville\, Ontario\, L9W 2Y9\, Canada
CATEGORIES:Hiking,Outdoor
ATTACH;FMTTYPE=image/png:https://exploredufferincounty.ca/wp-content/uploads/2025/06/118806177019_Forest-Bath-1.png
END:VEVENT
BEGIN:VEVENT
DTSTART;TZID=UTC:20250719T083000
DTEND;TZID=UTC:20250719T103000
DTSTAMP:20260422T093303
CREATED:20250609T154708Z
LAST-MODIFIED:20250609T155110Z
UID:10000236-1752913800-1752921000@exploredufferincounty.ca
SUMMARY:Light and Shadow Forest Therapy
DESCRIPTION:
URL:https://exploredufferincounty.ca/event/light-and-shadow-forest-therapy
LOCATION:Island Lake Conservation Area\, 673067 Hurontario St\, Orangeville\, Ontario\, L9W 2Y9\, Canada
CATEGORIES:Hiking,Outdoor
ATTACH;FMTTYPE=image/png:https://exploredufferincounty.ca/wp-content/uploads/2025/06/118802908796_Mystical-Rainforest-Exploration.png
END:VEVENT
BEGIN:VEVENT
DTSTART;TZID=UTC:20250706T100000
DTEND;TZID=UTC:20250706T113000
DTSTAMP:20260422T093303
CREATED:20250609T142425Z
LAST-MODIFIED:20250609T143244Z
UID:10000228-1751796000-1751801400@exploredufferincounty.ca
SUMMARY:Forest Bath and Nature Journaling
DESCRIPTION:
URL:https://exploredufferincounty.ca/event/forest-bath-and-nature-journaling-3
LOCATION:Monora Park Trails\, 500 Monora Park Drive\, Mono\, Ontario\, Canada
CATEGORIES:Hiking,Outdoor
ATTACH;FMTTYPE=image/png:https://exploredufferincounty.ca/wp-content/uploads/2025/04/118802851185_Forest-Bath.png
END:VEVENT
BEGIN:VEVENT
DTSTART;TZID=UTC:20250621T100000
DTEND;TZID=UTC:20250621T120000
DTSTAMP:20260422T093303
CREATED:20250528T145629Z
LAST-MODIFIED:20250528T150157Z
UID:10000213-1750500000-1750507200@exploredufferincounty.ca
SUMMARY:Summer Solstice Forest Therapy
DESCRIPTION:
URL:https://exploredufferincounty.ca/event/summer-solstice-forest-therapy
LOCATION:Mono Cliffs Provincial Park\, 754483 Mono Centre Rd\, Mono\, Ontario\, L9W 5Y2\, Canada
CATEGORIES:Hiking,Outdoor
ATTACH;FMTTYPE=image/webp:https://exploredufferincounty.ca/wp-content/uploads/2025/05/rsh_640.webp
END:VEVENT
BEGIN:VEVENT
DTSTART;TZID=UTC:20250608T100000
DTEND;TZID=UTC:20250608T113000
DTSTAMP:20260422T093303
CREATED:20250514T144204Z
LAST-MODIFIED:20250514T144950Z
UID:10000194-1749376800-1749382200@exploredufferincounty.ca
SUMMARY:Forest Bath and Nature Journaling
DESCRIPTION:
URL:https://exploredufferincounty.ca/event/forest-bath-and-nature-journaling-2
LOCATION:Mono Tract Forest\, Mono\, Ontario\, L9W 5S2\, Canada
CATEGORIES:Hiking,Outdoor
ATTACH;FMTTYPE=image/png:https://exploredufferincounty.ca/wp-content/uploads/2025/05/118806177019_Forest-Bath.png
END:VEVENT
BEGIN:VEVENT
DTSTART;TZID=UTC:20250608T080000
DTEND;TZID=UTC:20250608T093000
DTSTAMP:20260422T093303
CREATED:20250514T134729Z
LAST-MODIFIED:20250514T135530Z
UID:10000192-1749369600-1749375000@exploredufferincounty.ca
SUMMARY:Yoga Hike and Forest Bath
DESCRIPTION:
URL:https://exploredufferincounty.ca/event/yoga-hike-and-forest-bath-2
LOCATION:Mono Tract Forest\, Mono\, Ontario\, L9W 5S2\, Canada
CATEGORIES:Hiking,Music,Outdoor
ATTACH;FMTTYPE=image/png:https://exploredufferincounty.ca/wp-content/uploads/2025/05/118806188357_YOGA-Hike-Instagram-Post.png
END:VEVENT
BEGIN:VEVENT
DTSTART;TZID=UTC:20250524T100000
DTEND;TZID=UTC:20250524T113000
DTSTAMP:20260422T093303
CREATED:20250428T151746Z
LAST-MODIFIED:20250428T152107Z
UID:10000177-1748080800-1748086200@exploredufferincounty.ca
SUMMARY:Forest Bath and Nature Journaling
DESCRIPTION:
URL:https://exploredufferincounty.ca/event/forest-bath-and-nature-journaling
LOCATION:Monora Park Trails\, 500 Monora Park Drive\, Mono\, Ontario\, Canada
CATEGORIES:Hiking,Outdoor
ATTACH;FMTTYPE=image/png:https://exploredufferincounty.ca/wp-content/uploads/2025/04/118802851185_Forest-Bath.png
END:VEVENT
BEGIN:VEVENT
DTSTART;TZID=UTC:20250524T080000
DTEND;TZID=UTC:20250524T093000
DTSTAMP:20260422T093303
CREATED:20250428T150945Z
LAST-MODIFIED:20250428T151531Z
UID:10000176-1748073600-1748079000@exploredufferincounty.ca
SUMMARY:Yoga Hike and Forest Bath
DESCRIPTION:
URL:https://exploredufferincounty.ca/event/yoga-hike-and-forest-bath
LOCATION:Monora Park Trails\, 500 Monora Park Drive\, Mono\, Ontario\, Canada
CATEGORIES:Hiking,Outdoor
ATTACH;FMTTYPE=image/png:https://exploredufferincounty.ca/wp-content/uploads/2025/04/118802839064_YOGA-Hike.png
END:VEVENT
BEGIN:VEVENT
DTSTART;TZID=UTC:20250518T100000
DTEND;TZID=UTC:20250518T113000
DTSTAMP:20260422T093303
CREATED:20250428T131046Z
LAST-MODIFIED:20250428T131526Z
UID:10000172-1747562400-1747567800@exploredufferincounty.ca
SUMMARY:Nature STEAM Adventure Workshop for Families
DESCRIPTION:
URL:https://exploredufferincounty.ca/event/nature-steam-adventure-workshop-for-families
LOCATION:Mono Cliffs Provincial Park\, 754483 Mono Centre Rd\, Mono\, Ontario\, L9W 5Y2\, Canada
CATEGORIES:Hiking,Outdoor
ATTACH;FMTTYPE=image/png:https://exploredufferincounty.ca/wp-content/uploads/2025/04/118802827784_Nature-S.T.E.A.M.-2.png
END:VEVENT
BEGIN:VEVENT
DTSTART;TZID=UTC:20250504T090000
DTEND;TZID=UTC:20250504T110000
DTSTAMP:20260422T093303
CREATED:20250425T151155Z
LAST-MODIFIED:20250425T152312Z
UID:10000158-1746349200-1746356400@exploredufferincounty.ca
SUMMARY:Inner Fire - Forest Therapy for Adults
DESCRIPTION:
URL:https://exploredufferincounty.ca/event/inner-fire-forest-therapy-for-adults
LOCATION:Mono Tract Forest\, Mono\, Ontario\, L9W 5S2\, Canada
CATEGORIES:Hiking,Outdoor
ATTACH;FMTTYPE=image/png:https://exploredufferincounty.ca/wp-content/uploads/2025/04/118797554657_Feels-N-Fields-Inner-Fire.png
END:VEVENT
BEGIN:VEVENT
DTSTART;TZID=UTC:20240810T100000
DTEND;TZID=UTC:20240810T120000
DTSTAMP:20260422T093303
CREATED:20240806T165237Z
LAST-MODIFIED:20240806T165316Z
UID:10000101-1723284000-1723291200@exploredufferincounty.ca
SUMMARY:Family Adventures in Nature and Wellness
DESCRIPTION:
URL:https://exploredufferincounty.ca/event/family-adventures-in-nature-and-wellness-2
CATEGORIES:Hiking,Outdoor
ATTACH;FMTTYPE=image/jpeg:https://exploredufferincounty.ca/wp-content/uploads/2024/08/feelsnfields-Sandra-Dutkiewicz-Stanley-Mills-PS-1487.jpg
END:VEVENT
BEGIN:VEVENT
DTSTART;TZID=UTC:20240807T100000
DTEND;TZID=UTC:20240807T120000
DTSTAMP:20260422T093303
CREATED:20240806T164523Z
LAST-MODIFIED:20240806T165119Z
UID:10000100-1723024800-1723032000@exploredufferincounty.ca
SUMMARY:Family Adventures in Nature and Wellness
DESCRIPTION:
URL:https://exploredufferincounty.ca/event/family-adventures-in-nature-and-wellness
CATEGORIES:Hiking,Outdoor
ATTACH;FMTTYPE=image/jpeg:https://exploredufferincounty.ca/wp-content/uploads/2024/08/feelsnfields-Sandra-Dutkiewicz-Stanley-Mills-PS-1487.jpg
END:VEVENT
END:VCALENDAR